BEGIN:VCALENDAR
VERSION:2.0
PRODID:-//wp-events-plugin.com//7.2.3.1//EN
TZID:Europe/Berlin
X-WR-TIMEZONE:Europe/Berlin
BEGIN:VEVENT
UID:24@liederkranz-strassdorf.de
DTSTART;TZID=Europe/Berlin:20250628T180000
DTEND;TZID=Europe/Berlin:20250628T234500
DTSTAMP:20241017T083343Z
URL:https://www.liederkranz-strassdorf.de/wp/veranstaltungen/serenade-mit-
 anschl-gartenfest/
SUMMARY:Serenade (mit anschl. Gartenfest)
DESCRIPTION:
LOCATION:Gemeindehalle Straßdorf\, Jurastraße 9\, Schwäbisch Gmünd - St
 raßdorf\, 73529\, Deutschland
X-APPLE-STRUCTURED-LOCATION;VALUE=URI;X-ADDRESS=Jurastraße 9\, Schwäbisch
  Gmünd - Straßdorf\, 73529\, Deutschland;X-APPLE-RADIUS=100;X-TITLE=Geme
 indehalle Straßdorf:geo:0,0
END:VEVENT
BEGIN:VTIMEZONE
TZID:Europe/Berlin
X-LIC-LOCATION:Europe/Berlin
BEGIN:DAYLIGHT
DTSTART:20250330T030000
TZOFFSETFROM:+0100
TZOFFSETTO:+0200
TZNAME:CEST
END:DAYLIGHT
END:VTIMEZONE
END:VCALENDAR