BEGIN:VCALENDAR
VERSION:2.0
PRODID:-//wp-events-plugin.com//7.2.3.1//EN
TZID:Europe/Berlin
X-WR-TIMEZONE:Europe/Berlin
BEGIN:VEVENT
UID:25@liederkranz-strassdorf.de
DTSTART;TZID=Europe/Berlin:20250721T190000
DTEND;TZID=Europe/Berlin:20250721T220000
DTSTAMP:20241017T083619Z
URL:https://www.liederkranz-strassdorf.de/wp/veranstaltungen/konzertabend-
 mit-akkordeonorchester-herlikofen/
SUMMARY:Konzertabend mit Akkordeonorchester Herlikofen
DESCRIPTION:
CATEGORIES:2025,Gesamtchor
LOCATION:Christliches Gästezentrum Schönblick\, Willy-Schenk-Straße 9\, 
 73527 Schwäbisch Gmünd\, Deutschland
X-APPLE-STRUCTURED-LOCATION;VALUE=URI;X-ADDRESS=Willy-Schenk-Straße 9\, 73
 527 Schwäbisch Gmünd\, Deutschland;X-APPLE-RADIUS=100;X-TITLE=Christlich
 es Gästezentrum Schönblick:geo:0,0
END:VEVENT
BEGIN:VTIMEZONE
TZID:Europe/Berlin
X-LIC-LOCATION:Europe/Berlin
BEGIN:DAYLIGHT
DTSTART:20250330T030000
TZOFFSETFROM:+0100
TZOFFSETTO:+0200
TZNAME:CEST
END:DAYLIGHT
END:VTIMEZONE
END:VCALENDAR